BEGIN:VCALENDAR
VERSION:2.0
PRODID:-//Majestic Pines - ECPv6.15.17.1//NONSGML v1.0//EN
CALSCALE:GREGORIAN
METHOD:PUBLISH
X-ORIGINAL-URL:https://majesticpinesmn.com
X-WR-CALDESC:Events for Majestic Pines
REFRESH-INTERVAL;VALUE=DURATION:PT1H
X-Robots-Tag:noindex
X-PUBLISHED-TTL:PT1H
BEGIN:VTIMEZONE
TZID:America/Chicago
BEGIN:DAYLIGHT
TZOFFSETFROM:-0600
TZOFFSETTO:-0500
TZNAME:CDT
DTSTART:20230312T080000
END:DAYLIGHT
BEGIN:STANDARD
TZOFFSETFROM:-0500
TZOFFSETTO:-0600
TZNAME:CST
DTSTART:20231105T070000
END:STANDARD
BEGIN:DAYLIGHT
TZOFFSETFROM:-0600
TZOFFSETTO:-0500
TZNAME:CDT
DTSTART:20240310T080000
END:DAYLIGHT
BEGIN:STANDARD
TZOFFSETFROM:-0500
TZOFFSETTO:-0600
TZNAME:CST
DTSTART:20241103T070000
END:STANDARD
BEGIN:DAYLIGHT
TZOFFSETFROM:-0600
TZOFFSETTO:-0500
TZNAME:CDT
DTSTART:20250309T080000
END:DAYLIGHT
BEGIN:STANDARD
TZOFFSETFROM:-0500
TZOFFSETTO:-0600
TZNAME:CST
DTSTART:20251102T070000
END:STANDARD
END:VTIMEZONE
BEGIN:VEVENT
DTSTART;TZID=America/Chicago:20241031T150000
DTEND;TZID=America/Chicago:20241031T160000
DTSTAMP:20260419T051114
CREATED:20240924T191233Z
LAST-MODIFIED:20240924T191233Z
UID:1839-1730386800-1730390400@majesticpinesmn.com
SUMMARY:Afterschool Trick or Treat
DESCRIPTION:Thursday\, October 31st from 3:00 PM- 4:00 PM \nLocation: 1614 Golf Course RD\, Grand Rapids\, MN \nPick up your ghosts and goblins from school then head over to Majestic Pines Senior Living for some indoor Trick or Treating. Residents and staff will be in the main lobby to greet you and hand out candy! \n  \n 
URL:https://majesticpinesmn.com/event/afterschool-trick-or-treat/
CATEGORIES:Community Event (Public)
ATTACH;FMTTYPE=image/png:https://majesticpinesmn.com/wp-content/uploads/2024/09/October-2024-newsletter-.png
END:VEVENT
END:VCALENDAR