BEGIN:VCALENDAR
VERSION:2.0
PRODID:-//Majestic Pines - ECPv6.15.17.1//NONSGML v1.0//EN
CALSCALE:GREGORIAN
METHOD:PUBLISH
X-ORIGINAL-URL:https://majesticpinesmn.com
X-WR-CALDESC:Events for Majestic Pines
REFRESH-INTERVAL;VALUE=DURATION:PT1H
X-Robots-Tag:noindex
X-PUBLISHED-TTL:PT1H
BEGIN:VTIMEZONE
TZID:America/Chicago
BEGIN:DAYLIGHT
TZOFFSETFROM:-0600
TZOFFSETTO:-0500
TZNAME:CDT
DTSTART:20230312T080000
END:DAYLIGHT
BEGIN:STANDARD
TZOFFSETFROM:-0500
TZOFFSETTO:-0600
TZNAME:CST
DTSTART:20231105T070000
END:STANDARD
BEGIN:DAYLIGHT
TZOFFSETFROM:-0600
TZOFFSETTO:-0500
TZNAME:CDT
DTSTART:20240310T080000
END:DAYLIGHT
BEGIN:STANDARD
TZOFFSETFROM:-0500
TZOFFSETTO:-0600
TZNAME:CST
DTSTART:20241103T070000
END:STANDARD
BEGIN:DAYLIGHT
TZOFFSETFROM:-0600
TZOFFSETTO:-0500
TZNAME:CDT
DTSTART:20250309T080000
END:DAYLIGHT
BEGIN:STANDARD
TZOFFSETFROM:-0500
TZOFFSETTO:-0600
TZNAME:CST
DTSTART:20251102T070000
END:STANDARD
END:VTIMEZONE
BEGIN:VEVENT
DTSTART;TZID=America/Chicago:20240612T130000
DTEND;TZID=America/Chicago:20240612T140000
DTSTAMP:20260421T032713
CREATED:20240510T175115Z
LAST-MODIFIED:20240513T195825Z
UID:1710-1718197200-1718200800@majesticpinesmn.com
SUMMARY:Senior Session
DESCRIPTION:Please join us for an informational session featuring Itasca County Public Health. These knowledgeable Public Health Nurses will discuss the services they provide in our area. The nurses will speak about resources available to seniors and specifically provide information on the Elderly Waiver program and how it relates to Assisted Living services. This will be an informal presentation and the nurses will allow time for questions. We hope to see you there. \n  \n Date: Wednesday\, June 12th  Time: 1:00 PM – 2:00PM Location: Majestic Pines Senior Living Courtyard (1614 Golf Course Road\, Grand Rapids\, MN 55744)
URL:https://majesticpinesmn.com/event/senior-session/
LOCATION:Multipurpose Room
CATEGORIES:Community Event (Public)
ATTACH;FMTTYPE=image/png:https://majesticpinesmn.com/wp-content/uploads/2024/05/senior-session-2024.png
END:VEVENT
BEGIN:VEVENT
DTSTART;TZID=America/Chicago:20240612T140000
DTEND;TZID=America/Chicago:20240612T150000
DTSTAMP:20260421T032713
CREATED:20240603T154847Z
LAST-MODIFIED:20240603T154847Z
UID:1776-1718200800-1718204400@majesticpinesmn.com
SUMMARY:Father's Day Pie Social
DESCRIPTION:Wednesday\, June 12th from 2:00 pm-3:00 pm- \nJoin us at Majestic Pines Senior Living for a delightful Father’s Day celebration! We’re hosting a Pie Social where residents can gather with loved ones and indulge in delicious pies. \nEvery resident is encouraged to bring two guests to share in this heartwarming occasion. Let’s make this Father’s Day one to remember\, filled with love\, laughter\, and of course\, plenty of pie! We can’t wait to see you there. \n  \n  \nPlease note this is a resident-only event. 
URL:https://majesticpinesmn.com/event/fathers-day-pie-social/
LOCATION:Majestic Pines Senior Living\, 1614 Golf Course Road\, Grand Rapids\, MN\, 55744\, United States
CATEGORIES:Resident Event
ATTACH;FMTTYPE=image/png:https://majesticpinesmn.com/wp-content/uploads/2024/06/Untitled-design-8.png
END:VEVENT
END:VCALENDAR