BEGIN:VCALENDAR
VERSION:2.0
PRODID:-//Majestic Pines - ECPv6.15.17.1//NONSGML v1.0//EN
CALSCALE:GREGORIAN
METHOD:PUBLISH
X-WR-CALNAME:Majestic Pines
X-ORIGINAL-URL:https://majesticpinesmn.com
X-WR-CALDESC:Events for Majestic Pines
REFRESH-INTERVAL;VALUE=DURATION:PT1H
X-Robots-Tag:noindex
X-PUBLISHED-TTL:PT1H
BEGIN:VTIMEZONE
TZID:America/Chicago
BEGIN:DAYLIGHT
TZOFFSETFROM:-0600
TZOFFSETTO:-0500
TZNAME:CDT
DTSTART:20230312T080000
END:DAYLIGHT
BEGIN:STANDARD
TZOFFSETFROM:-0500
TZOFFSETTO:-0600
TZNAME:CST
DTSTART:20231105T070000
END:STANDARD
BEGIN:DAYLIGHT
TZOFFSETFROM:-0600
TZOFFSETTO:-0500
TZNAME:CDT
DTSTART:20240310T080000
END:DAYLIGHT
BEGIN:STANDARD
TZOFFSETFROM:-0500
TZOFFSETTO:-0600
TZNAME:CST
DTSTART:20241103T070000
END:STANDARD
BEGIN:DAYLIGHT
TZOFFSETFROM:-0600
TZOFFSETTO:-0500
TZNAME:CDT
DTSTART:20250309T080000
END:DAYLIGHT
BEGIN:STANDARD
TZOFFSETFROM:-0500
TZOFFSETTO:-0600
TZNAME:CST
DTSTART:20251102T070000
END:STANDARD
END:VTIMEZONE
BEGIN:VEVENT
DTSTART;TZID=America/Chicago:20240605T120000
DTEND;TZID=America/Chicago:20240605T130000
DTSTAMP:20260421T034334
CREATED:20240603T161829Z
LAST-MODIFIED:20240603T161916Z
UID:1782-1717588800-1717592400@majesticpinesmn.com
SUMMARY:Resident BBQ-
DESCRIPTION:June BBQ \nDate: Wednesday\, June 5th\nTime: 12:00 PM (Noon) \nWe are excited to invite all residents to a BBQ on Wednesday\, June 5th at noon! Please join us for an afternoon of delicious food\, great company\, and fun. We look forward to seeing you there! \n  \nPlease note this is a resident-only event. (Please note\, that this event is planned exclusively for residents. We kindly ask that no guests or family members attend.)
URL:https://majesticpinesmn.com/event/resident-bbq/
ATTACH;FMTTYPE=image/png:https://majesticpinesmn.com/wp-content/uploads/2024/06/Untitled-design-10.png
END:VEVENT
END:VCALENDAR